BEGIN:VCALENDAR
VERSION:2.0
PRODID:-//Alberta Tibetan - ECPv6.15.18//NONSGML v1.0//EN
CALSCALE:GREGORIAN
METHOD:PUBLISH
X-ORIGINAL-URL:http://albertatibetan.org
X-WR-CALDESC:Events for Alberta Tibetan
REFRESH-INTERVAL;VALUE=DURATION:PT1H
X-Robots-Tag:noindex
X-PUBLISHED-TTL:PT1H
BEGIN:VTIMEZONE
TZID:America/Edmonton
BEGIN:DAYLIGHT
TZOFFSETFROM:-0700
TZOFFSETTO:-0600
TZNAME:MDT
DTSTART:20240310T090000
END:DAYLIGHT
BEGIN:STANDARD
TZOFFSETFROM:-0600
TZOFFSETTO:-0700
TZNAME:MST
DTSTART:20241103T080000
END:STANDARD
BEGIN:DAYLIGHT
TZOFFSETFROM:-0700
TZOFFSETTO:-0600
TZNAME:MDT
DTSTART:20250309T090000
END:DAYLIGHT
BEGIN:STANDARD
TZOFFSETFROM:-0600
TZOFFSETTO:-0700
TZNAME:MST
DTSTART:20251102T080000
END:STANDARD
BEGIN:DAYLIGHT
TZOFFSETFROM:-0700
TZOFFSETTO:-0600
TZNAME:MDT
DTSTART:20260308T090000
END:DAYLIGHT
BEGIN:STANDARD
TZOFFSETFROM:-0600
TZOFFSETTO:-0700
TZNAME:MST
DTSTART:20261101T080000
END:STANDARD
END:VTIMEZONE
BEGIN:VEVENT
DTSTART;TZID=America/Edmonton:20250607T100000
DTEND;TZID=America/Edmonton:20250608T010000
DTSTAMP:20260422T130923
CREATED:20250528T051212Z
LAST-MODIFIED:20250528T051257Z
UID:5901-1749290400-1749344400@albertatibetan.org
SUMMARY:Celebrating 54 Years of Tibetan Heritage in Calgary
DESCRIPTION:Tashi Delek\,\nThis year marks 54 years since the first Tibetan families made Calgary their home. As we reflect on this journey\, we are reminded of the strength and determination of our early community members who worked selflessly to preserve our culture\, traditions\, and identity in a new land.\nWe warmly invite you to join us in celebrating this important milestone on:\n\n Saturday\, June 7 Chikhang & Slovenian Canadian Club of Calgary (2335 16a St SE) 10:00 AM to evening Seniors (65+): Free | Members: $10 | Others: $15(Food & beverages sold separately)\n\nThe day will include:Chikhang:10:00 AM – Prayer Session1:00 PM – Seniors Lunch2:00 PM – Engagement Session with Chithue Tenzin Jigme la\nSlovenia Club House:5:00 PM – Main Event featuring games\, performances by Bollywood YYC\, Gorshey\, delicious food and great company!
URL:http://albertatibetan.org/event/celebrating-54-years-of-tibetan-heritage-in-calgary
LOCATION:Slovenian Club House\, 2335 16a St SE\, Calgary\, Alberta\, T2G 3S8
END:VEVENT
END:VCALENDAR