BEGIN:VCALENDAR
VERSION:2.0
PRODID:-//Alberta Tibetan - ECPv6.15.18//NONSGML v1.0//EN
CALSCALE:GREGORIAN
METHOD:PUBLISH
X-WR-CALNAME:Alberta Tibetan
X-ORIGINAL-URL:http://albertatibetan.org
X-WR-CALDESC:Events for Alberta Tibetan
REFRESH-INTERVAL;VALUE=DURATION:PT1H
X-Robots-Tag:noindex
X-PUBLISHED-TTL:PT1H
BEGIN:VTIMEZONE
TZID:America/Edmonton
BEGIN:DAYLIGHT
TZOFFSETFROM:-0700
TZOFFSETTO:-0600
TZNAME:MDT
DTSTART:20250309T090000
END:DAYLIGHT
BEGIN:STANDARD
TZOFFSETFROM:-0600
TZOFFSETTO:-0700
TZNAME:MST
DTSTART:20251102T080000
END:STANDARD
BEGIN:DAYLIGHT
TZOFFSETFROM:-0700
TZOFFSETTO:-0600
TZNAME:MDT
DTSTART:20260308T090000
END:DAYLIGHT
BEGIN:STANDARD
TZOFFSETFROM:-0600
TZOFFSETTO:-0700
TZNAME:MST
DTSTART:20261101T080000
END:STANDARD
BEGIN:DAYLIGHT
TZOFFSETFROM:-0700
TZOFFSETTO:-0600
TZNAME:MDT
DTSTART:20270314T090000
END:DAYLIGHT
BEGIN:STANDARD
TZOFFSETFROM:-0600
TZOFFSETTO:-0700
TZNAME:MST
DTSTART:20271107T080000
END:STANDARD
END:VTIMEZONE
BEGIN:VEVENT
DTSTART;TZID=America/Edmonton:20260411T100000
DTEND;TZID=America/Edmonton:20260411T180000
DTSTAMP:20260422T042215
CREATED:20260405T163826Z
LAST-MODIFIED:20260405T181558Z
UID:5923-1775901600-1775930400@albertatibetan.org
SUMMARY:Tibetan Spring Bazaar
DESCRIPTION:We invite all TAA members and friends to our upcoming Spring Bazaar — a beloved community tradition and an important fundraiser toward securing a bigger and better permanent chikhang for our community. \nDate: Saturday\, April 11\, 2026\nVenue: Rosscarrock Community Hall\, Calgary\, AB\nPreparation Night: Friday\, April 10 — 6:00 PM to 10:00 PM \nFor vendors\, please note:\nTable fees are due on reservation day (Friday evening): TAA members $120 / Non-members $150\nEach vendor must send volunteers on both Friday evening and Saturday — morning or afternoon shift\nVendor volunteers will assist with kitchen chores until close\nDoor prizes are required from each vendor \nVolunteers for momo preparation and hall setup are always appreciated and warmly welcomed.\nThis event is more than a bazaar — every dollar raised brings us closer to a permanent home for our community. We hope to see you there!
URL:http://albertatibetan.org/event/tibetan-spring-bazaar-2
LOCATION:Rosscarrock Community Hall\, 4411 10 Ave SW\, Calgary\, Alberta\, T3C 0L9\, Canada
ATTACH;FMTTYPE=image/png:http://albertatibetan.org/wp-content/uploads/2026/04/Screenshot_20260405-101659.png
END:VEVENT
BEGIN:VEVENT
DTSTART;TZID=America/Edmonton:20260425T150000
DTEND;TZID=America/Edmonton:20260425T170000
DTSTAMP:20260422T042215
CREATED:20260422T055236Z
LAST-MODIFIED:20260422T055236Z
UID:5971-1777129200-1777136400@albertatibetan.org
SUMMARY:Legal Seminar: Wills & Estate Planning
DESCRIPTION:We are pleased to share that community member and lawyer Gelek Passang Lak is hosting a two-hour seminar this Saturday. \n  • Topics: Wills\, Personal Directives\, and Enduring Power of Attorney\n  • Date: Saturday\, April 25\, 2026\n  • Time: 3:00 PM – 5:00 PM\n  • Location: Chikhang \nThis is a valuable opportunity to get informed guidance on important legal matters. We strongly encourage all community members to attend.
URL:http://albertatibetan.org/event/legal-seminar-wills-estate-planning
LOCATION:Chikhang\, 2339 16A Street SE\, Calgary\, Alberta\, T2G 3S8\, Canada
END:VEVENT
BEGIN:VEVENT
DTSTART;TZID=America/Edmonton:20260502T100000
DTEND;TZID=America/Edmonton:20260502T140000
DTSTAMP:20260422T042215
CREATED:20260409T144500Z
LAST-MODIFIED:20260409T144500Z
UID:5954-1777716000-1777730400@albertatibetan.org
SUMMARY:Annual Highway Cleaning
DESCRIPTION:🌱 Annual TEC Highway Cleanup\n📅 Friday\, May 2\n⏰ 10:00 AM – 2:00 PM\n📍 Hwy 21 North of Hwy 1 – 7 miles (12km) \nJoin us for our annual TEC Highway Cleanup and help keep our community beautiful! We’re looking for enthusiastic volunteers to spend the day making a difference along the highway. \nWhat to expect:\n• Gloves\, bags\, and safety vests provided\n• Lunch and refreshments provided\n• Work alongside fellow community members\n• All fitness levels welcome \nWhether you can join us for an hour or the full day\, every pair of hands counts! Sign up below or contact [Name] at [email/phone] to register. \nLet’s roll up our sleeves and give back to our community! 💪
URL:http://albertatibetan.org/event/annual-highway-cleaning
LOCATION:https://maps.app.goo.gl/3yBywzgFkhHVeXeE9
END:VEVENT
BEGIN:VEVENT
DTSTART;TZID=America/Edmonton:20260503T160000
DTEND;TZID=America/Edmonton:20260503T180000
DTSTAMP:20260422T042215
CREATED:20260422T055657Z
LAST-MODIFIED:20260422T055657Z
UID:5975-1777824000-1777831200@albertatibetan.org
SUMMARY:Long Life Prayer Session for His Holiness
DESCRIPTION:Long Life Prayer Session for His Holiness | Sunday\, May 3\, 2026 | Gajang Centre \nFollowing a directive from the CTA Department of Religion and Culture\, the Tibetan Association of Alberta is organizing a group prayer session for the long life of His Holiness the Dalai Lama\, the welfare of Tibet\, and the accumulation of merit for all beings.\nAll community members are welcome and encouraged to attend. Individual recitations at home are also encouraged — please keep a record of your counts to submit by Monday\, May 4\, for compilation and submission to the Office of Tibet.
URL:http://albertatibetan.org/event/long-life-prayer-session-for-his-holiness
LOCATION:Gajang Centre\, 3904 12 Ave SW\, Calgary\, Alberta\, T3C 0S8\, Canada
END:VEVENT
END:VCALENDAR