BEGIN:VCALENDAR
VERSION:2.0
PRODID:-//Alberta Tibetan - ECPv6.15.18//NONSGML v1.0//EN
CALSCALE:GREGORIAN
METHOD:PUBLISH
X-WR-CALNAME:Alberta Tibetan
X-ORIGINAL-URL:http://albertatibetan.org
X-WR-CALDESC:Events for Alberta Tibetan
REFRESH-INTERVAL;VALUE=DURATION:PT1H
X-Robots-Tag:noindex
X-PUBLISHED-TTL:PT1H
BEGIN:VTIMEZONE
TZID:America/Edmonton
BEGIN:DAYLIGHT
TZOFFSETFROM:-0700
TZOFFSETTO:-0600
TZNAME:MDT
DTSTART:20250309T090000
END:DAYLIGHT
BEGIN:STANDARD
TZOFFSETFROM:-0600
TZOFFSETTO:-0700
TZNAME:MST
DTSTART:20251102T080000
END:STANDARD
BEGIN:DAYLIGHT
TZOFFSETFROM:-0700
TZOFFSETTO:-0600
TZNAME:MDT
DTSTART:20260308T090000
END:DAYLIGHT
BEGIN:STANDARD
TZOFFSETFROM:-0600
TZOFFSETTO:-0700
TZNAME:MST
DTSTART:20261101T080000
END:STANDARD
BEGIN:DAYLIGHT
TZOFFSETFROM:-0700
TZOFFSETTO:-0600
TZNAME:MDT
DTSTART:20270314T090000
END:DAYLIGHT
BEGIN:STANDARD
TZOFFSETFROM:-0600
TZOFFSETTO:-0700
TZNAME:MST
DTSTART:20271107T080000
END:STANDARD
END:VTIMEZONE
BEGIN:VEVENT
DTSTART;VALUE=DATE:20261121
DTEND;VALUE=DATE:20261122
DTSTAMP:20260422T163508
CREATED:20260422T213027Z
LAST-MODIFIED:20260422T213027Z
UID:6010-1795219200-1795305599@albertatibetan.org
SUMMARY:Tibetan Fall Bazaar 2026
DESCRIPTION:Wrap up your autumn with colour\, flavour\, and community! Join the Tibetan Association of Alberta on November 21st at Rosscarrock Community Centre for the Tibetan Fall Bazaar — a vibrant marketplace featuring Tibetan food\, handcrafted goods\, cultural treasures\, and the warm company of our community. All are welcome! \nMore details to follow..
URL:http://albertatibetan.org/event/tibetan-fall-bazaar-2026
LOCATION:Rosscarrock Community Hall\, 4411 10 Ave SW\, Calgary\, Alberta\, T3C 0L9\, Canada
END:VEVENT
BEGIN:VEVENT
DTSTART;VALUE=DATE:20261212
DTEND;VALUE=DATE:20261213
DTSTAMP:20260422T163508
CREATED:20260422T213202Z
LAST-MODIFIED:20260422T213202Z
UID:6013-1797033600-1797119999@albertatibetan.org
SUMMARY:Nobel Peace Prize Day — Honouring His Holiness the Dalai Lama
DESCRIPTION:Join the Tibetan Association of Alberta on December 12th at Marlborough Hall as we celebrate Nobel Peace Prize Day — honouring His Holiness the Dalai Lama’s enduring legacy of compassion\, nonviolence\, and the pursuit of peace for Tibet and all of humanity. An evening of reflection\, gratitude\, and community. \nMore details to follow..
URL:http://albertatibetan.org/event/nobel-peace-prize-day-honouring-his-holiness-the-dalai-lama
LOCATION:Marlborough Community Hall\, 636 Marlborough Way NE\, Calgary\, Alberta\, T2A 2V9\, Canada
END:VEVENT
BEGIN:VEVENT
DTSTART;VALUE=DATE:20261231
DTEND;VALUE=DATE:20270101
DTSTAMP:20260422T163508
CREATED:20260422T213515Z
LAST-MODIFIED:20260422T213515Z
UID:6017-1798675200-1798761599@albertatibetan.org
SUMMARY:TAA New Year 2027 Celebration
DESCRIPTION:Ring in the New Year with your community! Join the Tibetan Association of Alberta on December 31st at Rosscarrock Community Centre for an evening of celebration\, music\, and togetherness as we bid farewell to 2026 and welcome 2027 with joy and gratitude. \nMore details to follow…
URL:http://albertatibetan.org/event/taa-new-year-2027-celebration
LOCATION:Rosscarrock Community Hall\, 4411 10 Ave SW\, Calgary\, Alberta\, T3C 0L9\, Canada
END:VEVENT
END:VCALENDAR