BEGIN:VCALENDAR
VERSION:2.0
PRODID:-//Alberta Tibetan - ECPv6.15.18//NONSGML v1.0//EN
CALSCALE:GREGORIAN
METHOD:PUBLISH
X-WR-CALNAME:Alberta Tibetan
X-ORIGINAL-URL:http://albertatibetan.org
X-WR-CALDESC:Events for Alberta Tibetan
REFRESH-INTERVAL;VALUE=DURATION:PT1H
X-Robots-Tag:noindex
X-PUBLISHED-TTL:PT1H
BEGIN:VTIMEZONE
TZID:America/Edmonton
BEGIN:DAYLIGHT
TZOFFSETFROM:-0700
TZOFFSETTO:-0600
TZNAME:MDT
DTSTART:20180311T090000
END:DAYLIGHT
BEGIN:STANDARD
TZOFFSETFROM:-0600
TZOFFSETTO:-0700
TZNAME:MST
DTSTART:20181104T080000
END:STANDARD
BEGIN:DAYLIGHT
TZOFFSETFROM:-0700
TZOFFSETTO:-0600
TZNAME:MDT
DTSTART:20190310T090000
END:DAYLIGHT
BEGIN:STANDARD
TZOFFSETFROM:-0600
TZOFFSETTO:-0700
TZNAME:MST
DTSTART:20191103T080000
END:STANDARD
BEGIN:DAYLIGHT
TZOFFSETFROM:-0700
TZOFFSETTO:-0600
TZNAME:MDT
DTSTART:20200308T090000
END:DAYLIGHT
BEGIN:STANDARD
TZOFFSETFROM:-0600
TZOFFSETTO:-0700
TZNAME:MST
DTSTART:20201101T080000
END:STANDARD
END:VTIMEZONE
BEGIN:VEVENT
DTSTART;TZID=America/Edmonton:20190405T180000
DTEND;TZID=America/Edmonton:20190405T230000
DTSTAMP:20260419T142801
CREATED:20180113T011446Z
LAST-MODIFIED:20190112T011827Z
UID:925-1554487200-1554505200@albertatibetan.org
SUMMARY:Tibetan Bazaar - Prep
DESCRIPTION:
URL:http://albertatibetan.org/event/tibetan-bazaar-prep
LOCATION:Westgate Community Hall\, 4943 8 Ave SW\, Calgary\, Alberta\, T3C 3V4\, Canada
ATTACH;FMTTYPE=image/jpeg:http://albertatibetan.org/wp-content/uploads/2018/01/Apartment-1807.jpg
END:VEVENT
BEGIN:VEVENT
DTSTART;TZID=America/Edmonton:20190310T093000
DTEND;TZID=America/Edmonton:20190310T133000
DTSTAMP:20260419T142801
CREATED:20180113T011321Z
LAST-MODIFIED:20190302T171011Z
UID:922-1552210200-1552224600@albertatibetan.org
SUMMARY:National Uprising Day
DESCRIPTION:
URL:http://albertatibetan.org/event/national-uprising-day
LOCATION:City Hall
ATTACH;FMTTYPE=image/jpeg:http://albertatibetan.org/wp-content/uploads/2018/01/17200340_1322612327805458_1486055522_o.jpg
END:VEVENT
BEGIN:VEVENT
DTSTART;TZID=America/Edmonton:20190209T100000
DTEND;TZID=America/Edmonton:20190210T000000
DTSTAMP:20260419T142801
CREATED:20180113T010622Z
LAST-MODIFIED:20190129T010138Z
UID:914-1549706400-1549756800@albertatibetan.org
SUMMARY:Losar
DESCRIPTION:
URL:http://albertatibetan.org/event/losar
LOCATION:Marlborough Hall\, 636 Marlborough Way NE\, Calgary\, Alberta\, T2A 2V9\, Canada
ATTACH;FMTTYPE=image/jpeg:http://albertatibetan.org/wp-content/uploads/2018/01/Poster.jpg
END:VEVENT
BEGIN:VEVENT
DTSTART;TZID=America/Edmonton:20190208T170000
DTEND;TZID=America/Edmonton:20190208T220000
DTSTAMP:20260419T142801
CREATED:20180113T012003Z
LAST-MODIFIED:20190112T012454Z
UID:938-1549645200-1549663200@albertatibetan.org
SUMMARY:Losar - Prep
DESCRIPTION:
URL:http://albertatibetan.org/event/losar-prep
LOCATION:Marlborough Hall\, 636 Marlborough Way NE\, Calgary\, Alberta\, T2A 2V9\, Canada
END:VEVENT
BEGIN:VEVENT
DTSTART;TZID=America/Edmonton:20190207T100000
DTEND;TZID=America/Edmonton:20190207T120000
DTSTAMP:20260419T142801
CREATED:20180129T032329Z
LAST-MODIFIED:20190112T012553Z
UID:1049-1549533600-1549540800@albertatibetan.org
SUMMARY:Losar Tsewa Sum - Lhapso
DESCRIPTION:
URL:http://albertatibetan.org/event/losar-tsewa-sum-lhapso
LOCATION:Chikhang\, 2339 16A Street SE\, Calgary\, Alberta\, T2G 3S8\, Canada
ATTACH;FMTTYPE=image/jpeg:http://albertatibetan.org/wp-content/uploads/2018/01/17077995_1314472938619397_1806668473_n-1.jpg
END:VEVENT
END:VCALENDAR