BEGIN:VCALENDAR
VERSION:2.0
PRODID:-//Alberta Tibetan - ECPv6.15.18//NONSGML v1.0//EN
CALSCALE:GREGORIAN
METHOD:PUBLISH
X-ORIGINAL-URL:http://albertatibetan.org
X-WR-CALDESC:Events for Alberta Tibetan
REFRESH-INTERVAL;VALUE=DURATION:PT1H
X-Robots-Tag:noindex
X-PUBLISHED-TTL:PT1H
BEGIN:VTIMEZONE
TZID:America/Edmonton
BEGIN:DAYLIGHT
TZOFFSETFROM:-0700
TZOFFSETTO:-0600
TZNAME:MDT
DTSTART:20230312T090000
END:DAYLIGHT
BEGIN:STANDARD
TZOFFSETFROM:-0600
TZOFFSETTO:-0700
TZNAME:MST
DTSTART:20231105T080000
END:STANDARD
BEGIN:DAYLIGHT
TZOFFSETFROM:-0700
TZOFFSETTO:-0600
TZNAME:MDT
DTSTART:20240310T090000
END:DAYLIGHT
BEGIN:STANDARD
TZOFFSETFROM:-0600
TZOFFSETTO:-0700
TZNAME:MST
DTSTART:20241103T080000
END:STANDARD
BEGIN:DAYLIGHT
TZOFFSETFROM:-0700
TZOFFSETTO:-0600
TZNAME:MDT
DTSTART:20250309T090000
END:DAYLIGHT
BEGIN:STANDARD
TZOFFSETFROM:-0600
TZOFFSETTO:-0700
TZNAME:MST
DTSTART:20251102T080000
END:STANDARD
END:VTIMEZONE
BEGIN:VEVENT
DTSTART;VALUE=DATE:20241214
DTEND;VALUE=DATE:20241215
DTSTAMP:20260422T204218
CREATED:20240102T162516Z
LAST-MODIFIED:20240102T165312Z
UID:5878-1734134400-1734220799@albertatibetan.org
SUMMARY:H.H. The Dalai Lama's Nobel Peace Prize Day Celebration
DESCRIPTION:H.H. The 14th Dalai Lama (Tenzin Gyatso)\n\nThe Nobel Peace Prize 1989 \n\nA Buddhist Advocate for Peace and Freedom\nFrom his exile in India\, the religious and political leader the Dalai Lama has since 1959 stood at the head of the nonviolent opposition to China’s occupation of Tibet.
URL:http://albertatibetan.org/event/h-h-the-dalai-lamas-nobel-peace-prize-day-celebration
LOCATION:Marlborough Community Hall\, 636 Marlborough Way NE\, Calgary\, Alberta\, T2A 2V9\, Canada
ATTACH;FMTTYPE=image/jpeg:http://albertatibetan.org/wp-content/uploads/2024/01/his-holiness-Noble-Peace-Prize.jpg
END:VEVENT
BEGIN:VEVENT
DTSTART;VALUE=DATE:20241231
DTEND;VALUE=DATE:20250101
DTSTAMP:20260422T204218
CREATED:20240102T165619Z
LAST-MODIFIED:20240102T165628Z
UID:5893-1735603200-1735689599@albertatibetan.org
SUMMARY:New Year's Eve
DESCRIPTION:
URL:http://albertatibetan.org/event/new-years-eve
LOCATION:Rosscarrock Community Hall\, 4411 10 Ave SW\, Calgary\, Alberta\, T3C 0L9\, Canada
END:VEVENT
END:VCALENDAR